BEGIN:VCALENDAR
VERSION:2.0
PRODID:-//Beaver Street Brewery - ECPv6.15.18//NONSGML v1.0//EN
CALSCALE:GREGORIAN
METHOD:PUBLISH
X-WR-CALNAME:Beaver Street Brewery
X-ORIGINAL-URL:https://beaverstreetbrewery.com
X-WR-CALDESC:Events for Beaver Street Brewery
REFRESH-INTERVAL;VALUE=DURATION:PT1H
X-Robots-Tag:noindex
X-PUBLISHED-TTL:PT1H
BEGIN:VTIMEZONE
TZID:America/Phoenix
BEGIN:STANDARD
TZOFFSETFROM:-0700
TZOFFSETTO:-0700
TZNAME:MST
DTSTART:20240101T000000
END:STANDARD
END:VTIMEZONE
BEGIN:VEVENT
DTSTART;TZID=America/Phoenix:20250204T180000
DTEND;TZID=America/Phoenix:20250204T200000
DTSTAMP:20260421T032715
CREATED:20250117T183936Z
LAST-MODIFIED:20250117T183936Z
UID:1963-1738692000-1738699200@beaverstreetbrewery.com
SUMMARY:LADIES BEER CLUB - BEER & CHOCOLATE
DESCRIPTION:Join us for one of our most popular meetings… BEER & CHOCOLATE! We expertly prepare chocolates that will pair with your favorite BSB and Lumberyard Brews! \n\n\nCome be a part of our Ladies Beer Club’s gathering—a celebration of flavor\, friendship\, and the shared love for exceptional brews and chocolate! \n\nDoors open at 5pmEvent starts at 6pm$3 Entry Donation
URL:https://beaverstreetbrewery.com/event/ladies-beer-club-beer-chocolate/
LOCATION:Brews & Cues
ATTACH;FMTTYPE=image/png:https://beaverstreetbrewery.com/wp-content/uploads/2025/01/Instagram-Post-Hoppy-Happy-Hour-Cheers-Black-Illustrated-1.png
ORGANIZER;CN="Beaver Street Brewery":MAILTO:beaverstreetbrewery@gmail.com
END:VEVENT
BEGIN:VEVENT
DTSTART;TZID=America/Phoenix:20250218T180000
DTEND;TZID=America/Phoenix:20250218T220000
DTSTAMP:20260421T032715
CREATED:20250117T183741Z
LAST-MODIFIED:20250205T222302Z
UID:1961-1739901600-1739916000@beaverstreetbrewery.com
SUMMARY:BEER & WHISKEY NIGHT
DESCRIPTION:Indulge in a tantalizing journey through the art of brewing and distillation at our Annual Beer and Whiskey Night\, a collaborative masterpiece brought to you by Lumberyard Brewing\, Beaver St Brewery\, and Brews & Cues. Mark your calendars for a spectacular evening on Tuesday\, February 18th\, 2025. \n\n\nPrepare your palate for an experience like no other\, where expertly crafted beers are seamlessly paired with exquisite whiskeys\, curated to complement and enhance each other’s distinct characteristics. \n\n\nBut that’s not all – to elevate your tasting adventure further\, we present a meticulously prepared small plate of food alongside each pairing. This year’s theme is BBQ from around the world. Think Korean\, Classic American\, and Jamaican BBQ! \n\n\nTickets for this exclusive event are priced at $65 and are limited\, ensuring an intimate and immersive experience for all attendees. Secure your place now to immerse yourself in a night of unparalleled craftsmanship\, flavor exploration\, and delightful camaraderie. \n\nGet your tickets today!
URL:https://beaverstreetbrewery.com/event/beer-whiskey-night/
LOCATION:Brews & Cues
ATTACH;FMTTYPE=image/jpeg:https://beaverstreetbrewery.com/wp-content/uploads/2025/01/WhiskeyMenu25-scaled.jpg
ORGANIZER;CN="Beaver Street Brewery":MAILTO:beaverstreetbrewery@gmail.com
END:VEVENT
BEGIN:VEVENT
DTSTART;VALUE=DATE:20250219
DTEND;VALUE=DATE:20250220
DTSTAMP:20260421T032715
CREATED:20250117T184114Z
LAST-MODIFIED:20250117T184114Z
UID:1965-1739923200-1740009599@beaverstreetbrewery.com
SUMMARY:Keep the Pint Night - Arizona Beer Week
DESCRIPTION:Join us for Arizona Beer Week!  On Wednesday February 19th\, purchase any beer\, cocktail\, or  beverage and get a BSB Pint Glass for $1!
URL:https://beaverstreetbrewery.com/event/keep-the-pint-night-arizona-beer-week/
LOCATION:Beaver Street Brewery\, 11 S Beaver St Suite 1\, Flagstaff\, AZ\, 86001\, United States
ATTACH;FMTTYPE=image/jpeg:https://beaverstreetbrewery.com/wp-content/uploads/2019/09/M-pint-glass.jpg
ORGANIZER;CN="Beaver Street Brewery":MAILTO:beaverstreetbrewery@gmail.com
END:VEVENT
BEGIN:VEVENT
DTSTART;TZID=America/Phoenix:20250219T190000
DTEND;TZID=America/Phoenix:20250219T220000
DTSTAMP:20260421T032715
CREATED:20250117T190527Z
LAST-MODIFIED:20250117T190528Z
UID:1967-1739991600-1740002400@beaverstreetbrewery.com
SUMMARY:Beer Trivia!
DESCRIPTION:Join us for Brews Trivia\, the ultimate midweek brain-teaser and entertainment extravaganza! Every Wednesday at 7pm\, Brews & Cues is the place to be for an evening of intellectual challenge\, camaraderie\, and great prizes.\nTHIS NIGHT – Its all About BEER!\n\nGet ready to flex those mental muscles and form your dream team\, as we’ll be awarding fantastic prizes to the top 3 teams. Will you ride off into the trivia sunset with the gold? There’s only one way to find out!\nIn addition to the thrilling competition\, we’ve got some incredible drink specials just for you. Enjoy $4 Mystery Bags that’ll keep you guessing and $2 Jello Shots to add a little extra fun to your evening.\n\nBut the excitement doesn’t end there! Accumulate points throughout the semester as you continue to participate\, all leading up to a Grand Prize for the trivia elite. Points are accumulating from 1/15 – 4/30! Join us the Night of April 30th as we give alway the prizes!\n\nAs if that’s not enticing enough\, we’ll also be holding a monthly raffle exclusively for our loyal participants. Just by playing\, you might walk away with an unexpected surprise!\n\nSo\, gather your fellow trivia enthusiasts\, bring your A-game\, and make Brews Trivia your Wednesday night tradition. See you there\, ready to tackle the toughest questions and have a blast while doing it!
URL:https://beaverstreetbrewery.com/event/beer-trivia-2/
LOCATION:Brews & Cues
ATTACH;FMTTYPE=image/png:https://beaverstreetbrewery.com/wp-content/uploads/2025/01/Purple-and-Blue-Modern-Neon-Trivia-Night-Poster-10.png
ORGANIZER;CN="Beaver Street Brewery":MAILTO:beaverstreetbrewery@gmail.com
END:VEVENT
BEGIN:VEVENT
DTSTART;TZID=America/Phoenix:20250223T080000
DTEND;TZID=America/Phoenix:20250223T170000
DTSTAMP:20260421T032715
CREATED:20250117T185136Z
LAST-MODIFIED:20250117T185136Z
UID:1966-1740297600-1740330000@beaverstreetbrewery.com
SUMMARY:Wear it and Drink it for Arizona Beer Week
DESCRIPTION:Wear your Beaver Street Gear when you come in and get 1/2 OFF Pints!\n10% OFF MERCH
URL:https://beaverstreetbrewery.com/event/wear-it-and-drink-it-for-arizona-beer-week/
LOCATION:Beaver Street Brewery\, 11 S Beaver St Suite 1\, Flagstaff\, AZ\, 86001\, United States
ATTACH;FMTTYPE=image/jpeg:https://beaverstreetbrewery.com/wp-content/uploads/2022/06/IMG-1006-scaled.jpg
ORGANIZER;CN="Beaver Street Brewery":MAILTO:beaverstreetbrewery@gmail.com
END:VEVENT
END:VCALENDAR