BEGIN:VCALENDAR
VERSION:2.0
PRODID:-//Beaver Street Brewery - ECPv6.15.18//NONSGML v1.0//EN
CALSCALE:GREGORIAN
METHOD:PUBLISH
X-ORIGINAL-URL:https://beaverstreetbrewery.com
X-WR-CALDESC:Events for Beaver Street Brewery
REFRESH-INTERVAL;VALUE=DURATION:PT1H
X-Robots-Tag:noindex
X-PUBLISHED-TTL:PT1H
BEGIN:VTIMEZONE
TZID:America/Phoenix
BEGIN:STANDARD
TZOFFSETFROM:-0700
TZOFFSETTO:-0700
TZNAME:MST
DTSTART:20240101T000000
END:STANDARD
END:VTIMEZONE
BEGIN:VEVENT
DTSTART;TZID=America/Phoenix:20250326T190000
DTEND;TZID=America/Phoenix:20250326T220000
DTSTAMP:20260421T015307
CREATED:20250117T190945Z
LAST-MODIFIED:20250117T191027Z
UID:1970-1743015600-1743026400@beaverstreetbrewery.com
SUMMARY:BASKETBALL TRIVIA
DESCRIPTION:Join us for Brews Trivia\, the ultimate midweek brain-teaser and entertainment extravaganza! Every Wednesday at 7pm\, Brews & Cues is the place to be for an evening of intellectual challenge\, camaraderie\, and great prizes.\nTHIS NIGHT – Its all About BASKETBALL!\n\nGet ready to flex those mental muscles and form your dream team\, as we’ll be awarding fantastic prizes to the top 3 teams. Will you ride off into the trivia sunset with the gold? There’s only one way to find out!\nIn addition to the thrilling competition\, we’ve got some incredible drink specials just for you. Enjoy $4 Mystery Bags that’ll keep you guessing and $2 Jello Shots to add a little extra fun to your evening.\n\nBut the excitement doesn’t end there! Accumulate points throughout the semester as you continue to participate\, all leading up to a Grand Prize for the trivia elite. Points are accumulating from 1/15 – 4/30! Join us the Night of April 30th as we give alway the prizes!\n\nAs if that’s not enticing enough\, we’ll also be holding a monthly raffle exclusively for our loyal participants. Just by playing\, you might walk away with an unexpected surprise!\n\nSo\, gather your fellow trivia enthusiasts\, bring your A-game\, and make Brews Trivia your Wednesday night tradition. See you there\, ready to tackle the toughest questions and have a blast while doing it!
URL:https://beaverstreetbrewery.com/event/basketball-trivia/
LOCATION:Brews & Cues
ATTACH;FMTTYPE=image/png:https://beaverstreetbrewery.com/wp-content/uploads/2025/01/Purple-and-Blue-Modern-Neon-Trivia-Night-Poster-10.png
ORGANIZER;CN="Beaver Street Brewery":MAILTO:beaverstreetbrewery@gmail.com
END:VEVENT
END:VCALENDAR